BEGIN:VCALENDAR
VERSION:2.0
PRODID:-//National Autocross News - ECPv4.9.13//NONSGML v1.0//EN
CALSCALE:GREGORIAN
METHOD:PUBLISH
X-WR-CALNAME:National Autocross News
X-ORIGINAL-URL:http://naxn.org
X-WR-CALDESC:Events for National Autocross News
BEGIN:VTIMEZONE
TZID:UTC
BEGIN:STANDARD
TZOFFSETFROM:+0000
TZOFFSETTO:+0000
TZNAME:UTC
DTSTART:20170101T000000
END:STANDARD
END:VTIMEZONE
BEGIN:VEVENT
DTSTART;VALUE=DATE:20170703
DTEND;VALUE=DATE:20170706
DTSTAMP:20260426T012852
CREATED:20170614T163524Z
LAST-MODIFIED:20170626T183152Z
UID:158-1499040000-1499299199@naxn.org
SUMMARY:2017 Bristol Match Tour
DESCRIPTION:
URL:http://naxn.org/event/2017-bristol-match-tour/
LOCATION:Brisol Motor Speedway\, 151 Speedway Blvd\, Bristol\, TN\, 37620\, United States
CATEGORIES:Match Tour
END:VEVENT
END:VCALENDAR