BEGIN:VCALENDAR
VERSION:2.0
PRODID:-//National Autocross News - ECPv4.9.13//NONSGML v1.0//EN
CALSCALE:GREGORIAN
METHOD:PUBLISH
X-WR-CALNAME:National Autocross News
X-ORIGINAL-URL:http://naxn.org
X-WR-CALDESC:Events for National Autocross News
BEGIN:VTIMEZONE
TZID:UTC
BEGIN:STANDARD
TZOFFSETFROM:+0000
TZOFFSETTO:+0000
TZNAME:UTC
DTSTART:20170101T000000
END:STANDARD
END:VTIMEZONE
BEGIN:VEVENT
DTSTART;VALUE=DATE:20170901
DTEND;VALUE=DATE:20170904
DTSTAMP:20260426T035048
CREATED:20170615T133052Z
LAST-MODIFIED:20170615T133052Z
UID:181-1504224000-1504483199@naxn.org
SUMMARY:2017 CAM Challenge Invitational
DESCRIPTION:
URL:http://naxn.org/event/2017-cam-challenge-invitational/
LOCATION:Lincoln Airpark\, 3475 NW 36th St\, Lincoln\, NE\, 68524\, United States
CATEGORIES:CAM Challenge
END:VEVENT
END:VCALENDAR