BEGIN:VCALENDAR
VERSION:2.0
PRODID:-//National Autocross News - ECPv4.9.13//NONSGML v1.0//EN
CALSCALE:GREGORIAN
METHOD:PUBLISH
X-WR-CALNAME:National Autocross News
X-ORIGINAL-URL:http://naxn.org
X-WR-CALDESC:Events for National Autocross News
BEGIN:VTIMEZONE
TZID:UTC
BEGIN:STANDARD
TZOFFSETFROM:+0000
TZOFFSETTO:+0000
TZNAME:UTC
DTSTART:20170101T000000
END:STANDARD
END:VTIMEZONE
BEGIN:VEVENT
DTSTART;VALUE=DATE:20170616
DTEND;VALUE=DATE:20170619
DTSTAMP:20260426T012034
CREATED:20170614T154931Z
LAST-MODIFIED:20170615T151605Z
UID:147-1497571200-1497830399@naxn.org
SUMMARY:2017 Devens Championship Tour
DESCRIPTION:
URL:http://naxn.org/event/2017-devens-championship-tour/
LOCATION:Devins Air Field\, 90 Fitchburg Rd\, Ayer\, MA\, 01432\, United States
CATEGORIES:Championship Tour
END:VEVENT
END:VCALENDAR