BEGIN:VCALENDAR
VERSION:2.0
PRODID:-//National Autocross News - ECPv4.9.13//NONSGML v1.0//EN
CALSCALE:GREGORIAN
METHOD:PUBLISH
X-WR-CALNAME:National Autocross News
X-ORIGINAL-URL:http://naxn.org
X-WR-CALDESC:Events for National Autocross News
BEGIN:VTIMEZONE
TZID:UTC
BEGIN:STANDARD
TZOFFSETFROM:+0000
TZOFFSETTO:+0000
TZNAME:UTC
DTSTART:20170101T000000
END:STANDARD
END:VTIMEZONE
BEGIN:VEVENT
DTSTART;VALUE=DATE:20170310
DTEND;VALUE=DATE:20170313
DTSTAMP:20260426T024024
CREATED:20170615T133737Z
LAST-MODIFIED:20170615T133737Z
UID:184-1489104000-1489363199@naxn.org
SUMMARY:2017 Fort Myers ProSolo
DESCRIPTION:
URL:http://naxn.org/event/2017-fort-myers-prosolo/
LOCATION:Buckingham Field\, 3991 Sunset Rd\, Lehigh Acres\, FL\, 33971\, United States
CATEGORIES:ProSolo
END:VEVENT
END:VCALENDAR