BEGIN:VCALENDAR
VERSION:2.0
PRODID:-//National Autocross News - ECPv4.9.13//NONSGML v1.0//EN
CALSCALE:GREGORIAN
METHOD:PUBLISH
X-WR-CALNAME:National Autocross News
X-ORIGINAL-URL:http://naxn.org
X-WR-CALDESC:Events for National Autocross News
BEGIN:VTIMEZONE
TZID:UTC
BEGIN:STANDARD
TZOFFSETFROM:+0000
TZOFFSETTO:+0000
TZNAME:UTC
DTSTART:20170101T000000
END:STANDARD
END:VTIMEZONE
BEGIN:VEVENT
DTSTART;VALUE=DATE:20170528
DTEND;VALUE=DATE:20170530
DTSTAMP:20260426T023414
CREATED:20170615T180115Z
LAST-MODIFIED:20170615T180115Z
UID:236-1495929600-1496102399@naxn.org
SUMMARY:2017 Lincoln Spring Nationals Championship Tour
DESCRIPTION:
URL:http://naxn.org/event/2017-lincoln-spring-nationals-championship-tour/
LOCATION:Lincoln Airpark\, 3475 NW 36th St\, Lincoln\, NE\, 68524\, United States
CATEGORIES:Championship Tour
END:VEVENT
END:VCALENDAR