BEGIN:VCALENDAR
VERSION:2.0
PRODID:-//National Autocross News - ECPv4.9.13//NONSGML v1.0//EN
CALSCALE:GREGORIAN
METHOD:PUBLISH
X-WR-CALNAME:National Autocross News
X-ORIGINAL-URL:http://naxn.org
X-WR-CALDESC:Events for National Autocross News
BEGIN:VTIMEZONE
TZID:UTC
BEGIN:STANDARD
TZOFFSETFROM:+0000
TZOFFSETTO:+0000
TZNAME:UTC
DTSTART:20170101T000000
END:STANDARD
END:VTIMEZONE
BEGIN:VEVENT
DTSTART;VALUE=DATE:20170707
DTEND;VALUE=DATE:20170710
DTSTAMP:20260426T000706
CREATED:20170614T171011Z
LAST-MODIFIED:20170615T152820Z
UID:161-1499385600-1499644799@naxn.org
SUMMARY:2017 Packwood Championship Tour
DESCRIPTION:
URL:http://naxn.org/event/2017-packwood-championship-tour/
LOCATION:Hampton Mills Old Lumber Yard\, 12853 US-12\, Randle\, WA\, 98377\, United States
CATEGORIES:Championship Tour
END:VEVENT
END:VCALENDAR