BEGIN:VCALENDAR
VERSION:2.0
PRODID:-//National Autocross News - ECPv4.9.13//NONSGML v1.0//EN
CALSCALE:GREGORIAN
METHOD:PUBLISH
X-WR-CALNAME:National Autocross News
X-ORIGINAL-URL:http://naxn.org
X-WR-CALDESC:Events for National Autocross News
BEGIN:VTIMEZONE
TZID:UTC
BEGIN:STANDARD
TZOFFSETFROM:+0000
TZOFFSETTO:+0000
TZNAME:UTC
DTSTART:20170101T000000
END:STANDARD
END:VTIMEZONE
BEGIN:VEVENT
DTSTART;VALUE=DATE:20170303
DTEND;VALUE=DATE:20170306
DTSTAMP:20260426T041209
CREATED:20170614T220900Z
LAST-MODIFIED:20170615T132016Z
UID:166-1488499200-1488758399@naxn.org
SUMMARY:2017 San Diego Match Tour/CAM Challenge
DESCRIPTION:
URL:http://naxn.org/event/2017-san-diego-match-tourcam-challenge/
LOCATION:Qualcomm Stadium\, 9449 Friars Rd\, San Diego\, CA\, 92108\, United States
CATEGORIES:CAM Challenge,Match Tour
END:VEVENT
END:VCALENDAR