BEGIN:VCALENDAR
VERSION:2.0
PRODID:-//National Autocross News - ECPv4.9.13//NONSGML v1.0//EN
CALSCALE:GREGORIAN
METHOD:PUBLISH
X-WR-CALNAME:National Autocross News
X-ORIGINAL-URL:http://naxn.org
X-WR-CALDESC:Events for National Autocross News
BEGIN:VTIMEZONE
TZID:UTC
BEGIN:STANDARD
TZOFFSETFROM:+0000
TZOFFSETTO:+0000
TZNAME:UTC
DTSTART:20180101T000000
END:STANDARD
END:VTIMEZONE
BEGIN:VEVENT
DTSTART;VALUE=DATE:20180330
DTEND;VALUE=DATE:20180402
DTSTAMP:20260426T023948
CREATED:20171102T214625Z
LAST-MODIFIED:20171102T214625Z
UID:841-1522368000-1522627199@naxn.org
SUMMARY:2018 Charlotte Match Tour
DESCRIPTION:
URL:http://naxn.org/event/2018-charlotte-match-tour/
LOCATION:zMax Dragway\, 6570 Bruton Smith Blvd\, Concord\, NC\, 28027\, United States
CATEGORIES:Match Tour,SCCA
END:VEVENT
END:VCALENDAR