BEGIN:VCALENDAR
VERSION:2.0
PRODID:-//National Autocross News - ECPv4.9.13//NONSGML v1.0//EN
CALSCALE:GREGORIAN
METHOD:PUBLISH
X-WR-CALNAME:National Autocross News
X-ORIGINAL-URL:http://naxn.org
X-WR-CALDESC:Events for National Autocross News
BEGIN:VTIMEZONE
TZID:UTC
BEGIN:STANDARD
TZOFFSETFROM:+0000
TZOFFSETTO:+0000
TZNAME:UTC
DTSTART:20180101T000000
END:STANDARD
END:VTIMEZONE
BEGIN:VEVENT
DTSTART;VALUE=DATE:20180316
DTEND;VALUE=DATE:20180319
DTSTAMP:20260426T000402
CREATED:20171107T161612Z
LAST-MODIFIED:20171107T161612Z
UID:877-1521158400-1521417599@naxn.org
SUMMARY:2018 Dixie Champ Tour
DESCRIPTION:
URL:http://naxn.org/event/2018-dixie-champ-tour/
LOCATION:South Georgia Motorsports Park\, 2521 U.S. 41 Highway\, Adel\, GA\, 31267\, United States
CATEGORIES:Championship Tour,SCCA
END:VEVENT
END:VCALENDAR