BEGIN:VCALENDAR
VERSION:2.0
PRODID:-//National Autocross News - ECPv4.9.13//NONSGML v1.0//EN
CALSCALE:GREGORIAN
METHOD:PUBLISH
X-WR-CALNAME:National Autocross News
X-ORIGINAL-URL:http://naxn.org
X-WR-CALDESC:Events for National Autocross News
BEGIN:VTIMEZONE
TZID:UTC
BEGIN:STANDARD
TZOFFSETFROM:+0000
TZOFFSETTO:+0000
TZNAME:UTC
DTSTART:20180101T000000
END:STANDARD
END:VTIMEZONE
BEGIN:VEVENT
DTSTART;VALUE=DATE:20180524
DTEND;VALUE=DATE:20180527
DTSTAMP:20260426T023420
CREATED:20171106T205602Z
LAST-MODIFIED:20171106T205602Z
UID:865-1527120000-1527379199@naxn.org
SUMMARY:2018 Lincoln Spring Nationals ProSolo
DESCRIPTION:
URL:http://naxn.org/event/2018-lincoln-spring-nationals-prosolo/
LOCATION:Lincoln Airpark\, 3475 NW 36th St\, Lincoln\, NE\, 68524\, United States
CATEGORIES:ProSolo,SCCA
END:VEVENT
END:VCALENDAR