BEGIN:VCALENDAR
VERSION:2.0
PRODID:-//National Autocross News - ECPv4.9.13//NONSGML v1.0//EN
CALSCALE:GREGORIAN
METHOD:PUBLISH
X-WR-CALNAME:National Autocross News
X-ORIGINAL-URL:http://naxn.org
X-WR-CALDESC:Events for National Autocross News
BEGIN:VTIMEZONE
TZID:UTC
BEGIN:STANDARD
TZOFFSETFROM:+0000
TZOFFSETTO:+0000
TZNAME:UTC
DTSTART:20180101T000000
END:STANDARD
END:VTIMEZONE
BEGIN:VEVENT
DTSTART;VALUE=DATE:20181006
DTEND;VALUE=DATE:20181008
DTSTAMP:20260425T235941
CREATED:20171102T215527Z
LAST-MODIFIED:20180913T130136Z
UID:851-1538784000-1538956799@naxn.org
SUMMARY:2018 Rio Grande Region "JumboCross" (formerly New Mexico Match Tour)
DESCRIPTION:
URL:http://naxn.org/event/2018-new-mexico-match-tour/
LOCATION:San Juan County McGee Park\, 41 Road 5568\, Farmington\, NM\, 87401\, United States
CATEGORIES:SCCA
END:VEVENT
END:VCALENDAR