BEGIN:VCALENDAR
VERSION:2.0
PRODID:-//National Autocross News - ECPv4.9.13//NONSGML v1.0//EN
CALSCALE:GREGORIAN
METHOD:PUBLISH
X-WR-CALNAME:National Autocross News
X-ORIGINAL-URL:http://naxn.org
X-WR-CALDESC:Events for National Autocross News
BEGIN:VTIMEZONE
TZID:UTC
BEGIN:STANDARD
TZOFFSETFROM:+0000
TZOFFSETTO:+0000
TZNAME:UTC
DTSTART:20180101T000000
END:STANDARD
END:VTIMEZONE
BEGIN:VEVENT
DTSTART;VALUE=DATE:20181013
DTEND;VALUE=DATE:20181015
DTSTAMP:20260426T000652
CREATED:20180112T172959Z
LAST-MODIFIED:20180112T172959Z
UID:914-1539388800-1539561599@naxn.org
SUMMARY:2018 Optima DriveAutoX Mineral Wells
DESCRIPTION:
URL:http://naxn.org/event/2018-optima-driveautox-mineral-wells/
LOCATION:Mineral Wells Airport\, 6178 Columbia St\, Mineral Wells\, TX\, 76067\, United States
CATEGORIES:DriveAutoX
END:VEVENT
END:VCALENDAR