BEGIN:VCALENDAR
VERSION:2.0
PRODID:-//National Autocross News - ECPv4.9.13//NONSGML v1.0//EN
CALSCALE:GREGORIAN
METHOD:PUBLISH
X-WR-CALNAME:National Autocross News
X-ORIGINAL-URL:http://naxn.org
X-WR-CALDESC:Events for National Autocross News
BEGIN:VTIMEZONE
TZID:UTC
BEGIN:STANDARD
TZOFFSETFROM:+0000
TZOFFSETTO:+0000
TZNAME:UTC
DTSTART:20180101T000000
END:STANDARD
END:VTIMEZONE
BEGIN:VEVENT
DTSTART;VALUE=DATE:20180810
DTEND;VALUE=DATE:20180813
DTSTAMP:20260426T022532
CREATED:20180112T162147Z
LAST-MODIFIED:20180112T162147Z
UID:902-1533859200-1534118399@naxn.org
SUMMARY:2018 Peru CAM Challenge
DESCRIPTION:
URL:http://naxn.org/event/2018-peru-cam-challenge/
LOCATION:Grissom Aeroplex\, 7518 S Innovation Way\, Bunker Hill\, IN\, 46914\, United States
CATEGORIES:CAM Challenge,SCCA
END:VEVENT
END:VCALENDAR