BEGIN:VCALENDAR
VERSION:2.0
PRODID:-//National Autocross News - ECPv4.9.13//NONSGML v1.0//EN
CALSCALE:GREGORIAN
METHOD:PUBLISH
X-WR-CALNAME:National Autocross News
X-ORIGINAL-URL:http://naxn.org
X-WR-CALDESC:Events for National Autocross News
BEGIN:VTIMEZONE
TZID:UTC
BEGIN:STANDARD
TZOFFSETFROM:+0000
TZOFFSETTO:+0000
TZNAME:UTC
DTSTART:20180101T000000
END:STANDARD
END:VTIMEZONE
BEGIN:VEVENT
DTSTART;VALUE=DATE:20180903
DTEND;VALUE=DATE:20180907
DTSTAMP:20260425T224240
CREATED:20180507T130753Z
LAST-MODIFIED:20180507T130753Z
UID:1110-1535932800-1536278399@naxn.org
SUMMARY:2018 Solo Nationals
DESCRIPTION:
URL:http://naxn.org/event/2018-solo-nationals/
LOCATION:Lincoln Airpark\, 3475 NW 36th St\, Lincoln\, NE\, 68524\, United States
CATEGORIES:Championship Tour,SCCA
END:VEVENT
END:VCALENDAR