BEGIN:VCALENDAR
VERSION:2.0
PRODID:-//National Autocross News - ECPv4.9.13//NONSGML v1.0//EN
CALSCALE:GREGORIAN
METHOD:PUBLISH
X-WR-CALNAME:National Autocross News
X-ORIGINAL-URL:http://naxn.org
X-WR-CALDESC:Events for National Autocross News
BEGIN:VTIMEZONE
TZID:UTC
BEGIN:STANDARD
TZOFFSETFROM:+0000
TZOFFSETTO:+0000
TZNAME:UTC
DTSTART:20190101T000000
END:STANDARD
END:VTIMEZONE
BEGIN:VEVENT
DTSTART;VALUE=DATE:20190321
DTEND;VALUE=DATE:20190324
DTSTAMP:20260425T224337
CREATED:20181120T162306Z
LAST-MODIFIED:20181120T162321Z
UID:1938-1553126400-1553385599@naxn.org
SUMMARY:2019 Charlotte Champ Tour
DESCRIPTION:
URL:http://naxn.org/event/2019-charlotte-champ-tour/
LOCATION:zMax Dragway\, 6570 Bruton Smith Blvd\, Concord\, NC\, 28027\, United States
CATEGORIES:Championship Tour,SCCA
END:VEVENT
END:VCALENDAR