BEGIN:VCALENDAR
VERSION:2.0
PRODID:-//National Autocross News - ECPv4.9.13//NONSGML v1.0//EN
CALSCALE:GREGORIAN
METHOD:PUBLISH
X-WR-CALNAME:National Autocross News
X-ORIGINAL-URL:http://naxn.org
X-WR-CALDESC:Events for National Autocross News
BEGIN:VTIMEZONE
TZID:UTC
BEGIN:STANDARD
TZOFFSETFROM:+0000
TZOFFSETTO:+0000
TZNAME:UTC
DTSTART:20190101T000000
END:STANDARD
END:VTIMEZONE
BEGIN:VEVENT
DTSTART;VALUE=DATE:20190517
DTEND;VALUE=DATE:20190520
DTSTAMP:20260425T224349
CREATED:20181120T171539Z
LAST-MODIFIED:20190131T185844Z
UID:1947-1558051200-1558310399@naxn.org
SUMMARY:2019 Finger Lakes Champ Tour
DESCRIPTION:Date changed from June 7-9\, 2019. 
URL:http://naxn.org/event/2019-finger-lakes-champ-tour/
LOCATION:Seneca Army Depot\, 6600 NY-96\, Romulus\, NY\, 14541\, United States
CATEGORIES:Championship Tour,SCCA
END:VEVENT
END:VCALENDAR