BEGIN:VCALENDAR
VERSION:2.0
PRODID:-//National Autocross News - ECPv4.9.13//NONSGML v1.0//EN
CALSCALE:GREGORIAN
METHOD:PUBLISH
X-WR-CALNAME:National Autocross News
X-ORIGINAL-URL:http://naxn.org
X-WR-CALDESC:Events for National Autocross News
BEGIN:VTIMEZONE
TZID:UTC
BEGIN:STANDARD
TZOFFSETFROM:+0000
TZOFFSETTO:+0000
TZNAME:UTC
DTSTART:20190101T000000
END:STANDARD
END:VTIMEZONE
BEGIN:VEVENT
DTSTART;VALUE=DATE:20190525
DTEND;VALUE=DATE:20190528
DTSTAMP:20260425T224853
CREATED:20181120T171336Z
LAST-MODIFIED:20181120T171424Z
UID:1944-1558742400-1559001599@naxn.org
SUMMARY:2019 Lincoln Champ Tour - Spring Nationals
DESCRIPTION:
URL:http://naxn.org/event/2019-lincoln-champ-tour-spring-nationals/
LOCATION:Lincoln Airpark\, 3475 NW 36th St\, Lincoln\, NE\, 68524\, United States
CATEGORIES:Championship Tour,SCCA
END:VEVENT
END:VCALENDAR