BEGIN:VCALENDAR
VERSION:2.0
PRODID:-//National Autocross News - ECPv4.9.13//NONSGML v1.0//EN
CALSCALE:GREGORIAN
METHOD:PUBLISH
X-WR-CALNAME:National Autocross News
X-ORIGINAL-URL:http://naxn.org
X-WR-CALDESC:Events for National Autocross News
BEGIN:VTIMEZONE
TZID:UTC
BEGIN:STANDARD
TZOFFSETFROM:+0000
TZOFFSETTO:+0000
TZNAME:UTC
DTSTART:20190101T000000
END:STANDARD
END:VTIMEZONE
BEGIN:VEVENT
DTSTART;VALUE=DATE:20190406
DTEND;VALUE=DATE:20190408
DTSTAMP:20260426T010333
CREATED:20190325T172510Z
LAST-MODIFIED:20190325T172510Z
UID:2035-1554508800-1554681599@naxn.org
SUMMARY:2019 Optima DriveAutoX Charlotte
DESCRIPTION:
URL:http://naxn.org/event/2019-optima-driveautox-charlotte/
LOCATION:zMax Dragway\, 6570 Bruton Smith Blvd\, Concord\, NC\, 28027\, United States
CATEGORIES:DriveAutoX
END:VEVENT
END:VCALENDAR