BEGIN:VCALENDAR
VERSION:2.0
PRODID:-//National Autocross News - ECPv4.9.13//NONSGML v1.0//EN
CALSCALE:GREGORIAN
METHOD:PUBLISH
X-WR-CALNAME:National Autocross News
X-ORIGINAL-URL:http://naxn.org
X-WR-CALDESC:Events for National Autocross News
BEGIN:VTIMEZONE
TZID:UTC
BEGIN:STANDARD
TZOFFSETFROM:+0000
TZOFFSETTO:+0000
TZNAME:UTC
DTSTART:20190101T000000
END:STANDARD
END:VTIMEZONE
BEGIN:VEVENT
DTSTART;VALUE=DATE:20190629
DTEND;VALUE=DATE:20190701
DTSTAMP:20260426T012247
CREATED:20190325T172645Z
LAST-MODIFIED:20190325T172753Z
UID:2037-1561766400-1561939199@naxn.org
SUMMARY:2019 Optima DriveAutoX Peru
DESCRIPTION:
URL:http://naxn.org/event/2019-optima-driveautox-peru/
LOCATION:Grissom Aeroplex\, 7518 S Innovation Way\, Bunker Hill\, IN\, 46914\, United States
CATEGORIES:DriveAutoX
END:VEVENT
END:VCALENDAR