BEGIN:VCALENDAR
VERSION:2.0
PRODID:-//National Autocross News - ECPv4.9.13//NONSGML v1.0//EN
CALSCALE:GREGORIAN
METHOD:PUBLISH
X-WR-CALNAME:National Autocross News
X-ORIGINAL-URL:http://naxn.org
X-WR-CALDESC:Events for National Autocross News
BEGIN:VTIMEZONE
TZID:UTC
BEGIN:STANDARD
TZOFFSETFROM:+0000
TZOFFSETTO:+0000
TZNAME:UTC
DTSTART:20190101T000000
END:STANDARD
END:VTIMEZONE
BEGIN:VEVENT
DTSTART;VALUE=DATE:20190614
DTEND;VALUE=DATE:20190617
DTSTAMP:20260426T024140
CREATED:20181120T204855Z
LAST-MODIFIED:20181120T204855Z
UID:1971-1560470400-1560729599@naxn.org
SUMMARY:2019 San Diego Match Tour
DESCRIPTION:
URL:http://naxn.org/event/2019-san-diego-match-tour/
LOCATION:Qualcomm Stadium\, 9449 Friars Rd\, San Diego\, CA\, 92108\, United States
CATEGORIES:Match Tour,SCCA
END:VEVENT
END:VCALENDAR