BEGIN:VCALENDAR
VERSION:2.0
PRODID:-//National Autocross News - ECPv4.9.13//NONSGML v1.0//EN
CALSCALE:GREGORIAN
METHOD:PUBLISH
X-WR-CALNAME:National Autocross News
X-ORIGINAL-URL:http://naxn.org
X-WR-CALDESC:Events for National Autocross News
BEGIN:VTIMEZONE
TZID:UTC
BEGIN:STANDARD
TZOFFSETFROM:+0000
TZOFFSETTO:+0000
TZNAME:UTC
DTSTART:20200101T000000
END:STANDARD
END:VTIMEZONE
BEGIN:VEVENT
DTSTART;VALUE=DATE:20200701
DTEND;VALUE=DATE:20200704
DTSTAMP:20260425T224109
CREATED:20191121T234523Z
LAST-MODIFIED:20191121T234523Z
UID:2786-1593561600-1593820799@naxn.org
SUMMARY:2020 Bristol ProSolo
DESCRIPTION:
URL:http://naxn.org/event/2020-bristol-prosolo/
LOCATION:Brisol Motor Speedway\, 151 Speedway Blvd\, Bristol\, TN\, 37620\, United States
CATEGORIES:ProSolo,SCCA
END:VEVENT
END:VCALENDAR