BEGIN:VCALENDAR
VERSION:2.0
PRODID:-//National Autocross News - ECPv4.9.13//NONSGML v1.0//EN
CALSCALE:GREGORIAN
METHOD:PUBLISH
X-WR-CALNAME:National Autocross News
X-ORIGINAL-URL:http://naxn.org
X-WR-CALDESC:Events for National Autocross News
BEGIN:VTIMEZONE
TZID:UTC
BEGIN:STANDARD
TZOFFSETFROM:+0000
TZOFFSETTO:+0000
TZNAME:UTC
DTSTART:20200101T000000
END:STANDARD
END:VTIMEZONE
BEGIN:VEVENT
DTSTART;VALUE=DATE:20200313
DTEND;VALUE=DATE:20200316
DTSTAMP:20260425T224037
CREATED:20191126T161014Z
LAST-MODIFIED:20191126T161014Z
UID:2795-1584057600-1584316799@naxn.org
SUMMARY:2020 Dixie Champ Tour
DESCRIPTION:
URL:http://naxn.org/event/2020-dixie-champ-tour/
LOCATION:South Georgia Motorsports Park\, 2521 U.S. 41 Highway\, Adel\, GA\, 31267\, United States
CATEGORIES:Championship Tour,SCCA
END:VEVENT
END:VCALENDAR