BEGIN:VCALENDAR
VERSION:2.0
PRODID:-//National Autocross News - ECPv4.9.13//NONSGML v1.0//EN
CALSCALE:GREGORIAN
METHOD:PUBLISH
X-WR-CALNAME:National Autocross News
X-ORIGINAL-URL:http://naxn.org
X-WR-CALDESC:Events for National Autocross News
BEGIN:VTIMEZONE
TZID:UTC
BEGIN:STANDARD
TZOFFSETFROM:+0000
TZOFFSETTO:+0000
TZNAME:UTC
DTSTART:20200101T000000
END:STANDARD
END:VTIMEZONE
BEGIN:VEVENT
DTSTART;VALUE=DATE:20200904
DTEND;VALUE=DATE:20200907
DTSTAMP:20260425T224123
CREATED:20191121T235352Z
LAST-MODIFIED:20191121T235352Z
UID:2792-1599177600-1599436799@naxn.org
SUMMARY:2020 ProSolo Finale
DESCRIPTION:
URL:http://naxn.org/event/2020-prosolo-finale/
LOCATION:Lincoln Airpark\, 3475 NW 36th St\, Lincoln\, NE\, 68524\, United States
CATEGORIES:ProSolo,SCCA
END:VEVENT
END:VCALENDAR