BEGIN:VCALENDAR
VERSION:2.0
PRODID:-//National Autocross News - ECPv4.9.13//NONSGML v1.0//EN
CALSCALE:GREGORIAN
METHOD:PUBLISH
X-WR-CALNAME:National Autocross News
X-ORIGINAL-URL:http://naxn.org
X-WR-CALDESC:Events for National Autocross News
BEGIN:VTIMEZONE
TZID:UTC
BEGIN:STANDARD
TZOFFSETFROM:+0000
TZOFFSETTO:+0000
TZNAME:UTC
DTSTART:20210101T000000
END:STANDARD
END:VTIMEZONE
BEGIN:VEVENT
DTSTART;VALUE=DATE:20210312
DTEND;VALUE=DATE:20210315
DTSTAMP:20260425T212058
CREATED:20210130T015751Z
LAST-MODIFIED:20210130T015905Z
UID:2901-1615507200-1615766399@naxn.org
SUMMARY:2021 Dixie Champ Tour
DESCRIPTION:
URL:http://naxn.org/event/2021-dixie-champ-tour/
LOCATION:South Georgia Motorsports Park\, 2521 U.S. 41 Highway\, Adel\, GA\, 31267\, United States
CATEGORIES:Championship Tour,SCCA
END:VEVENT
END:VCALENDAR